BEGIN:VCALENDAR
VERSION:2.0
PRODID:spatie/icalendar-generator
DESCRIPTION:Eventi da Camera Penale di Napoli Nord
X-WR-CALDESC:Eventi da Camera Penale di Napoli Nord
REFRESH-INTERVAL;VALUE=DURATION:PT1440M
X-PUBLISHED-TTL:PT1440M
BEGIN:VTIMEZONE
TZID:Europe/Rome
BEGIN:DAYLIGHT
DTSTART:20240331T020000Z
TZOFFSETFROM:+0100
TZOFFSETTO:+0200
END:DAYLIGHT
BEGIN:STANDARD
DTSTART:20241027T030000Z
TZOFFSETFROM:+0200
TZOFFSETTO:+0100
END:STANDARD
BEGIN:DAYLIGHT
DTSTART:20250330T020000Z
TZOFFSETFROM:+0100
TZOFFSETTO:+0200
END:DAYLIGHT
END:VTIMEZONE
BEGIN:VTIMEZONE
TZID:UTC
BEGIN:STANDARD
DTSTART:20250725T135848Z
TZOFFSETFROM:+0000
TZOFFSETTO:+0000
END:STANDARD
END:VTIMEZONE
BEGIN:VEVENT
UID:4-4
DTSTAMP:20260421T135848Z
SUMMARY:GDP Marano Udienza del 29/10/2024
LOCATION:
ORGANIZER;CN=Attilio Pianese:MAILTO:attiliopianese@hotmail.it
DTSTART;TZID=Europe/Rome;VALUE=DATE:20241029
DTEND;TZID=Europe/Rome;VALUE=DATE:20241030
X-ALT-DESC;FMTTYPE=TEXT/HTML:[pdf-embedder url=\"https://www.camerapenaledi
 napolinord.it/wp-content/uploads/2024/10/34.-DECRETO-TRATTAZIONE-E-RINVIO-
 PER-LUDIENZA-PENALE-DEL-29-10-2024-G.d.P.-Ciaccio-Dario.pdf\" title=\"34. 
 DECRETO TRATTAZIONE E RINVIO PER L'UDIENZA PENALE DEL 29-10-2024 G.d.P. Ci
 accio Dario\"] Allegato: Statino 29/10/24
CATEGORIES:Giudice di Pace di Marano
URL;VALUE=URI:https://www.camerapenaledinapolinord.it/mc-events/gdp-marano-
 udienza-del-29-10-2024/?mc_id=4
END:VEVENT
END:VCALENDAR